BEGIN:VCALENDAR
VERSION:2.0
PRODID:-//Glonki-Gilde Villingen e. V. - ECPv6.15.20//NONSGML v1.0//EN
CALSCALE:GREGORIAN
METHOD:PUBLISH
X-WR-CALNAME:Glonki-Gilde Villingen e. V.
X-ORIGINAL-URL:https://glonki.de
X-WR-CALDESC:Veranstaltungen für Glonki-Gilde Villingen e. V.
REFRESH-INTERVAL;VALUE=DURATION:PT1H
X-Robots-Tag:noindex
X-PUBLISHED-TTL:PT1H
BEGIN:VTIMEZONE
TZID:Europe/Berlin
BEGIN:DAYLIGHT
TZOFFSETFROM:+0100
TZOFFSETTO:+0200
TZNAME:CEST
DTSTART:20230326T010000
END:DAYLIGHT
BEGIN:STANDARD
TZOFFSETFROM:+0200
TZOFFSETTO:+0100
TZNAME:CET
DTSTART:20231029T010000
END:STANDARD
BEGIN:DAYLIGHT
TZOFFSETFROM:+0100
TZOFFSETTO:+0200
TZNAME:CEST
DTSTART:20240331T010000
END:DAYLIGHT
BEGIN:STANDARD
TZOFFSETFROM:+0200
TZOFFSETTO:+0100
TZNAME:CET
DTSTART:20241027T010000
END:STANDARD
BEGIN:DAYLIGHT
TZOFFSETFROM:+0100
TZOFFSETTO:+0200
TZNAME:CEST
DTSTART:20250330T010000
END:DAYLIGHT
BEGIN:STANDARD
TZOFFSETFROM:+0200
TZOFFSETTO:+0100
TZNAME:CET
DTSTART:20251026T010000
END:STANDARD
BEGIN:DAYLIGHT
TZOFFSETFROM:+0100
TZOFFSETTO:+0200
TZNAME:CEST
DTSTART:20260329T010000
END:DAYLIGHT
BEGIN:STANDARD
TZOFFSETFROM:+0200
TZOFFSETTO:+0100
TZNAME:CET
DTSTART:20261025T010000
END:STANDARD
BEGIN:DAYLIGHT
TZOFFSETFROM:+0100
TZOFFSETTO:+0200
TZNAME:CEST
DTSTART:20270328T010000
END:DAYLIGHT
BEGIN:STANDARD
TZOFFSETFROM:+0200
TZOFFSETTO:+0100
TZNAME:CET
DTSTART:20271031T010000
END:STANDARD
END:VTIMEZONE
BEGIN:VEVENT
DTSTART;TZID=Europe/Berlin:20260418T090000
DTEND;TZID=Europe/Berlin:20260418T120000
DTSTAMP:20260420T115531
CREATED:20190328T111419Z
LAST-MODIFIED:20260417T125914Z
UID:3232-1776502800-1776513600@glonki.de
SUMMARY:Aktion saubere Landschaft
DESCRIPTION:Es ist wieder Frühjahrsputz angesagt.\n  \nWir freuen uns über alle\, die ihren Beitrag zu einer sauberen Landschaft leisten möchten. \nTreffpunkt: Rudolf-Diesel-Straße
URL:https://glonki.de/event/aktion-saubere-landschaft/
CATEGORIES:Fanfarenzug,Glonki-Gilde,Glonkinchen,Krawazi-Ramblers,Majoretten,Spielmannszug,Trommlerwieber,Trommlerzug
END:VEVENT
BEGIN:VEVENT
DTSTART;TZID=Europe/Berlin:20260217T133000
DTEND;TZID=Europe/Berlin:20260217T173000
DTSTAMP:20260420T115531
CREATED:20251013T094721Z
LAST-MODIFIED:20251013T094956Z
UID:4912-1771335000-1771349400@glonki.de
SUMMARY:Großer Umzug der Zuggesellschaft
DESCRIPTION:Traditioneller und krönender Abschluss der Villinger Straßenfasnet. \nDie rund 8.000 Hästräger feiern zusammen mit den jährlich rund 40.000 Besuchern den Höhepunkt der Villinger Fasnet.\nIm Gegensatz zu anderen Umzügen in der Region\, wird der Große Umzug der Zuggesellschaft nur von den Mitgliedsvereinen gestaltet.\nLediglich 2-3 Gastzünfte sind jährlich eingeladen\, um bei dem Umzug mitzulaufen. \nUmzugsstrecke: Niederestraße – Bickenstraße – Klosterring – Obere Straße – Rietstraße
URL:https://glonki.de/event/grosser-umzug-der-zuggesellschaft-2/
LOCATION:Villinger Innenstadt
CATEGORIES:Fanfarenzug,Glonki-Gilde,Glonkinchen,Krawazi-Ramblers,Majoretten,Spielmannszug,Trommlerwieber,Trommlerzug
END:VEVENT
BEGIN:VEVENT
DTSTART;TZID=Europe/Berlin:20260216T163000
DTEND;TZID=Europe/Berlin:20260216T173000
DTSTAMP:20260420T115531
CREATED:20251013T094538Z
LAST-MODIFIED:20251013T094756Z
UID:4910-1771259400-1771263000@glonki.de
SUMMARY:Glonki-Umzug
DESCRIPTION:Umzugsstrecke: Niederestraße – Rietstraße
URL:https://glonki.de/event/glonki-umzug/
LOCATION:Villinger Innenstadt
CATEGORIES:Fanfarenzug,Glonki-Gilde,Glonkinchen,Krawazi-Ramblers,Majoretten,Spielmannszug,Trommlerwieber,Trommlerzug
END:VEVENT
BEGIN:VEVENT
DTSTART;TZID=Europe/Berlin:20260215T190000
DTEND;TZID=Europe/Berlin:20260215T200000
DTSTAMP:20260420T115531
CREATED:20251013T094359Z
LAST-MODIFIED:20251013T094359Z
UID:4907-1771182000-1771185600@glonki.de
SUMMARY:Fasnetsuche
DESCRIPTION:Infos über die Fasnetsuche findet ihr hier.
URL:https://glonki.de/event/fasnetsuche-2/
LOCATION:Villinger Bickentor
CATEGORIES:Fanfarenzug,Glonki-Gilde,Glonkinchen,Krawazi-Ramblers,Majoretten,Spielmannszug,Trommlerwieber,Trommlerzug
END:VEVENT
BEGIN:VEVENT
DTSTART;TZID=Europe/Berlin:20260213T201100
DTEND;TZID=Europe/Berlin:20260213T235900
DTSTAMP:20260420T115531
CREATED:20251013T093918Z
LAST-MODIFIED:20251013T094001Z
UID:4903-1771013460-1771027140@glonki.de
SUMMARY:2. Glonki-Obed
DESCRIPTION:Karten für den Glonki-Obed können unter info@glonki.de reserviert werden. \nReservierte Karten können beim Kartenvorverkauf abgeholt werden. \nEinlass: 19:00 Uhr\nBeginn: 20:11 Uhr
URL:https://glonki.de/event/2-glonki-obed/
LOCATION:Neue Tonhalle Villingen\, Bertholdstraße 7\, Villingen-Schwenningen\, 78050
CATEGORIES:Fanfarenzug,Glonki-Gilde,Glonkinchen,Krawazi-Ramblers,Majoretten,Spielmannszug,Trommlerwieber,Trommlerzug
END:VEVENT
BEGIN:VEVENT
DTSTART;TZID=Europe/Berlin:20260212T190000
DTEND;TZID=Europe/Berlin:20260212T235900
DTSTAMP:20260420T115531
CREATED:20251013T093630Z
LAST-MODIFIED:20251013T093723Z
UID:4900-1770922800-1770940740@glonki.de
SUMMARY:1. Glonki-Obed
DESCRIPTION:Karten für den Glonki-Obed können unter info@glonki.de reserviert werden. \nReservierte Karten können beim Kartenvorverkauf abgeholt werden. \nEinlass: 19:00 Uhr\nBeginn: 20:11 Uhr
URL:https://glonki.de/event/1-glonki-obed/
LOCATION:Neue Tonhalle Villingen\, Bertholdstraße 7\, Villingen-Schwenningen\, 78050
CATEGORIES:Fanfarenzug,Glonki-Gilde,Glonkinchen,Krawazi-Ramblers,Majoretten,Spielmannszug,Trommlerwieber,Trommlerzug
END:VEVENT
BEGIN:VEVENT
DTSTART;TZID=Europe/Berlin:20260212T140000
DTEND;TZID=Europe/Berlin:20260212T163000
DTSTAMP:20260420T115531
CREATED:20251013T094217Z
LAST-MODIFIED:20251013T094217Z
UID:4905-1770904800-1770913800@glonki.de
SUMMARY:Kinder-Umzug
DESCRIPTION:Umzugsweg:\n– Niedere Straße\n– Bickenstraße\n– Bärengasse\n– Hafnergasse\n– Obere Straße\n– Rietstraße
URL:https://glonki.de/event/kinder-umzug/
LOCATION:Villinger Innenstadt
CATEGORIES:Fanfarenzug,Glonki-Gilde,Glonkinchen,Krawazi-Ramblers,Majoretten,Spielmannszug,Trommlerwieber,Trommlerzug
END:VEVENT
BEGIN:VEVENT
DTSTART;TZID=Europe/Berlin:20260208T130000
DTEND;TZID=Europe/Berlin:20260208T170000
DTSTAMP:20260420T115531
CREATED:20251013T093339Z
LAST-MODIFIED:20251013T093339Z
UID:4898-1770555600-1770570000@glonki.de
SUMMARY:Glonki-Kinderball
DESCRIPTION:Einlass: 13:00 Uhr | Beginn: 14:30 Uhr \n  \nEinlass für alle Akteure und Gäste um 13:00 Uhr am Haupteingang.\nKein Einlass am Nebeneingang!
URL:https://glonki.de/event/glonki-kinderball/
LOCATION:Neue Tonhalle Villingen\, Bertholdstraße 7\, Villingen-Schwenningen\, 78050
CATEGORIES:Fanfarenzug,Glonki-Gilde,Glonkinchen,Krawazi-Ramblers,Majoretten,Spielmannszug,Trommlerwieber,Trommlerzug
END:VEVENT
BEGIN:VEVENT
DTSTART;TZID=Europe/Berlin:20260207T090000
DTEND;TZID=Europe/Berlin:20260207T130000
DTSTAMP:20260420T115531
CREATED:20251013T092404Z
LAST-MODIFIED:20251013T092404Z
UID:4888-1770454800-1770469200@glonki.de
SUMMARY:Kartenvorverkauf
DESCRIPTION:Karten für den Glonki-Obed und Glonki-Kinderball können von 09:00-13:00 Uhr im Glonki-Stüble an der Glonki-Halle erworben und Reservierungen abgeholt werden.
URL:https://glonki.de/event/kartenvorverkauf/
LOCATION:Glonki-Halle\, Unterer Dammweg\, Villingen-Schwenningen\, 78050
CATEGORIES:Fanfarenzug,Glonki-Gilde,Glonkinchen,Krawazi-Ramblers,Majoretten,Spielmannszug,Trommlerwieber,Trommlerzug
END:VEVENT
BEGIN:VEVENT
DTSTART;TZID=Europe/Berlin:20260124T090000
DTEND;TZID=Europe/Berlin:20260124T170000
DTSTAMP:20260420T115531
CREATED:20251013T092613Z
LAST-MODIFIED:20251013T092613Z
UID:4890-1769245200-1769274000@glonki.de
SUMMARY:Verkauf des Narrenspiegels
DESCRIPTION:Die Glonki verkaufen die neuste Ausgabe der Glonkizeitung „Narrenspiegel“ von Haus zu Haus.\nAußerdem steht der Trommlerzug der Glonki-Gilde auch dieses Jahr wieder mit einem Verkaufsstand in der Innenstadt parat.
URL:https://glonki.de/event/verkauf-des-narrenspiegels/
CATEGORIES:Fanfarenzug,Glonki-Gilde,Glonkinchen,Krawazi-Ramblers,Majoretten,Spielmannszug,Trommlerwieber,Trommlerzug
END:VEVENT
BEGIN:VEVENT
DTSTART;TZID=Europe/Berlin:20251207T180000
DTEND;TZID=Europe/Berlin:20251207T183000
DTSTAMP:20260420T115531
CREATED:20251104T110000Z
LAST-MODIFIED:20251104T110000Z
UID:4940-1765130400-1765132200@glonki.de
SUMMARY:🕯️ Adventsfenster - TW
DESCRIPTION:🕕 18:00 Uhr\n📍 ZOOM Schmuck & Design (Rietstraße) \nKommt vorbei und erlebt mit den Trommlerwieber einen stimmungsvollen Adventsabend!
URL:https://glonki.de/event/%f0%9f%95%af%ef%b8%8f-adventsfenster-tw/
CATEGORIES:Glonki-Gilde,Trommlerwieber
END:VEVENT
BEGIN:VEVENT
DTSTART;VALUE=DATE:20251122
DTEND;VALUE=DATE:20251123
DTSTAMP:20260420T115531
CREATED:20251104T105334Z
LAST-MODIFIED:20251104T105334Z
UID:4938-1763769600-1763855999@glonki.de
SUMMARY:🍰 Kuchenverkauf - TW
DESCRIPTION:📍 Parfümerie Butta (Ecke Oberestraße)\n🕘 Ab 09:00 Uhr \nAb 09:00 Uhr startet der Kuchenverkauf der Trommlerwieber in der Innenstadt.\nZusätzlich wird Glühwein und Kinderpunsch ausgeschenkt.\nKommt also vorbei und genießt einen gemütlichen Vormittag!
URL:https://glonki.de/event/%f0%9f%8d%b0-kuchenverkauf-tw/
CATEGORIES:Glonki-Gilde,Trommlerwieber
END:VEVENT
BEGIN:VEVENT
DTSTART;TZID=Europe/Berlin:20250304T133000
DTEND;TZID=Europe/Berlin:20250304T163000
DTSTAMP:20260420T115531
CREATED:20190110T103122Z
LAST-MODIFIED:20241122T090957Z
UID:2833-1741095000-1741105800@glonki.de
SUMMARY:Großer Umzug der Zuggesellschaft
DESCRIPTION:Traditioneller und krönender Abschluss der Villinger Straßenfasnet. \nDie rund 8.000 Hästräger feiern zusammen mit den jährlich rund 40.000 Besuchern den Höhepunkt der Villinger Fasnet.\nIm Gegensatz zu anderen Umzügen in der Region\, wird der Große Umzug der Zuggesellschaft nur von den Mitgliedsvereinen gestaltet.\nLediglich 2-3 Gastzünfte sind jährlich eingeladen\, um bei dem Umzug mitzulaufen. \nUmzugsstrecke: Niederestraße – Bickenstraße – Klosterring – Obere Straße – Rietstraße 
URL:https://glonki.de/event/grosser-umzug-der-zuggesellschaft/
LOCATION:Villinger Innenstadt
CATEGORIES:Fanfarenzug,Glonki-Gilde,Glonkinchen,Krawazi-Ramblers,Majoretten,Spielmannszug,Trommlerwieber,Trommlerzug
END:VEVENT
BEGIN:VEVENT
DTSTART;TZID=Europe/Berlin:20250303T163000
DTEND;TZID=Europe/Berlin:20250303T173000
DTSTAMP:20260420T115531
CREATED:20190110T101743Z
LAST-MODIFIED:20241122T090843Z
UID:2831-1741019400-1741023000@glonki.de
SUMMARY:Umzug der Glonki-Gilde
DESCRIPTION:Der Glonki-Umzug geht durch die Niedere- und Rietstraße.
URL:https://glonki.de/event/umzug-der-glonki-gilde/
LOCATION:Villinger Innenstadt
CATEGORIES:Fanfarenzug,Glonki-Gilde,Glonkinchen,Krawazi-Ramblers,Majoretten,Spielmannszug,Trommlerwieber,Trommlerzug
END:VEVENT
BEGIN:VEVENT
DTSTART;TZID=Europe/Berlin:20250302T190000
DTEND;TZID=Europe/Berlin:20250302T210000
DTSTAMP:20260420T115531
CREATED:20190110T100553Z
LAST-MODIFIED:20241122T090748Z
UID:2823-1740942000-1740949200@glonki.de
SUMMARY:Fasnetsuche
DESCRIPTION:Infos über die Fasnetsuche findet ihr hier.
URL:https://glonki.de/event/fasnetsuche/
LOCATION:Villinger Bickentor
CATEGORIES:Fanfarenzug,Glonki-Gilde,Glonkinchen,Krawazi-Ramblers,Majoretten,Spielmannszug,Trommlerwieber,Trommlerzug
END:VEVENT
BEGIN:VEVENT
DTSTART;TZID=Europe/Berlin:20250228T201100
DTEND;TZID=Europe/Berlin:20250228T235900
DTSTAMP:20260420T115531
CREATED:20190110T092836Z
LAST-MODIFIED:20250131T112940Z
UID:2813-1740773460-1740787140@glonki.de
SUMMARY:Glonki-Obed am Freitag
DESCRIPTION:– A U S V E R K A U F T – \nReservierte Karten können am 22.02.2025 von 09:00 – 13:00 Uhr an der Glonki-Halle beim Kartenvorverkauf abgeholt werden. \nEinlass: 19:00 Uhr\nBeginn: 20:11 Uhr
URL:https://glonki.de/event/glonki-obed-am-freitag/
LOCATION:Neue Tonhalle Villingen\, Bertholdstraße 7\, Villingen-Schwenningen\, 78050
CATEGORIES:Fanfarenzug,Glonki-Gilde,Glonkinchen,Krawazi-Ramblers,Majoretten,Spielmannszug,Trommlerwieber,Trommlerzug
END:VEVENT
BEGIN:VEVENT
DTSTART;TZID=Europe/Berlin:20250227T201100
DTEND;TZID=Europe/Berlin:20250227T235900
DTSTAMP:20260420T115531
CREATED:20190110T092005Z
LAST-MODIFIED:20250131T114714Z
UID:2808-1740687060-1740700740@glonki.de
SUMMARY:Glonki-Obed am Donnerstag
DESCRIPTION:Karten für den Glonki-Obed am 27.02.2025 können unter info@glonki.de reserviert werden. \nReservierte Karten können am 22.02.2025 von 09:00 – 13:00 Uhr an der Glonki-Halle beim Kartenvorverkauf abgeholt werden. \nEinlass: 19:00 Uhr\nBeginn: 20:11 Uhr
URL:https://glonki.de/event/glonki-obed-am-donnerstag/
LOCATION:Neue Tonhalle Villingen\, Bertholdstraße 7\, Villingen-Schwenningen\, 78050
CATEGORIES:Fanfarenzug,Glonki-Gilde,Glonkinchen,Krawazi-Ramblers,Majoretten,Spielmannszug,Trommlerwieber,Trommlerzug
END:VEVENT
BEGIN:VEVENT
DTSTART;TZID=Europe/Berlin:20250227T140000
DTEND;TZID=Europe/Berlin:20250227T170000
DTSTAMP:20260420T115531
CREATED:20190109T162227Z
LAST-MODIFIED:20241122T090008Z
UID:2803-1740664800-1740675600@glonki.de
SUMMARY:Kinderumzug durch die vier Hauptstraßen
DESCRIPTION:Umzugsweg:\n– Niedere Straße\n– Bickenstraße\n– Bärengasse\n– Hafnergasse\n– Obere Straße\n– Rietstraße
URL:https://glonki.de/event/kinderumzug-durch-die-vier-hauptstrassen/
LOCATION:Villinger Innenstadt
CATEGORIES:Fanfarenzug,Glonki-Gilde,Glonkinchen,Krawazi-Ramblers,Majoretten,Spielmannszug,Trommlerwieber,Trommlerzug
END:VEVENT
BEGIN:VEVENT
DTSTART;TZID=Europe/Berlin:20250223T130000
DTEND;TZID=Europe/Berlin:20250223T170000
DTSTAMP:20260420T115531
CREATED:20181114T182655Z
LAST-MODIFIED:20241122T085806Z
UID:2685-1740315600-1740330000@glonki.de
SUMMARY:Glonki-Kinderball
DESCRIPTION:Einlass: 13:00 Uhr | Beginn: 14:30 Uhr \n  \nEinlass für alle Akteure und Gäste um 13:00 Uhr am Haupteingang.\nKein Einlass am Nebeneingang!
URL:https://glonki.de/event/40-kinderglonkiball/
LOCATION:Neue Tonhalle Villingen\, Bertholdstraße 7\, Villingen-Schwenningen\, 78050
CATEGORIES:Fanfarenzug,Glonki-Gilde,Glonkinchen,Krawazi-Ramblers,Majoretten,Spielmannszug,Trommlerwieber,Trommlerzug
END:VEVENT
BEGIN:VEVENT
DTSTART;TZID=Europe/Berlin:20250222T090000
DTEND;TZID=Europe/Berlin:20250222T130000
DTSTAMP:20260420T115531
CREATED:20181112T154016Z
LAST-MODIFIED:20241122T085640Z
UID:2529-1740214800-1740229200@glonki.de
SUMMARY:Kartenvorverkauf für den Glonki-Obed und den Kinderglonkiball
DESCRIPTION:Karten für den Glonki-Obed am Do\, 08.02.2024 & Fr\, 09.02.2024  sowie den Kinderglonkiball am So\, 04.02.2024 \nkönnen am 03.02.2024 von 09:00 – 13:00 Uhr im Glonki-Stüble an der Glonki-Halle erworben und Reservierungen abgeholt werden. \n  \nDu kannst deine Karten aber auch schon jetzt bestellen:\nE-Mail: info@glonki.de
URL:https://glonki.de/event/kartenvorverkauf-fuer-den-glonki-obed-und-den-kinderglonkiball/
LOCATION:Glonki-Halle\, Unterer Dammweg\, Villingen-Schwenningen\, 78050
CATEGORIES:Fanfarenzug,Glonki-Gilde,Glonkinchen,Krawazi-Ramblers,Majoretten,Spielmannszug,Trommlerwieber,Trommlerzug
END:VEVENT
BEGIN:VEVENT
DTSTART;TZID=Europe/Berlin:20250208T090000
DTEND;TZID=Europe/Berlin:20250208T160000
DTSTAMP:20260420T115531
CREATED:20181112T152908Z
LAST-MODIFIED:20241215T094312Z
UID:2527-1739005200-1739030400@glonki.de
SUMMARY:Narrenspiegelverkauf
DESCRIPTION:Die Glonkis verkaufen die neuste Ausgabe der Glonkizeitung „Narrenspiegel“ von Haus zu Haus.\nAußerdem steht der Trommlerzug der Glonki-Gilde auch dieses Jahr wieder mit einem Verkaufsstand in der Innenstadt parat.
URL:https://glonki.de/event/narrenspiegelverkauf/
CATEGORIES:Fanfarenzug,Glonki-Gilde,Glonkinchen,Krawazi-Ramblers,Majoretten,Spielmannszug,Trommlerwieber,Trommlerzug
END:VEVENT
BEGIN:VEVENT
DTSTART;TZID=Europe/Berlin:20241215T180000
DTEND;TZID=Europe/Berlin:20241215T190000
DTSTAMP:20260420T115531
CREATED:20241122T093514Z
LAST-MODIFIED:20241122T093514Z
UID:4559-1734285600-1734289200@glonki.de
SUMMARY:Adventsfenster
DESCRIPTION:
URL:https://glonki.de/event/adventsfenster-2/
CATEGORIES:Trommlerwieber
END:VEVENT
BEGIN:VEVENT
DTSTART;TZID=Europe/Berlin:20241210T180000
DTEND;TZID=Europe/Berlin:20241210T190000
DTSTAMP:20260420T115531
CREATED:20221108T195942Z
LAST-MODIFIED:20241122T085209Z
UID:4303-1733853600-1733857200@glonki.de
SUMMARY:Adventsfenster
DESCRIPTION:
URL:https://glonki.de/event/adventsfenster/
CATEGORIES:Glonki-Gilde
END:VEVENT
BEGIN:VEVENT
DTSTART;TZID=Europe/Berlin:20241115T201100
DTEND;TZID=Europe/Berlin:20241115T221100
DTSTAMP:20260420T115531
CREATED:20191112T131019Z
LAST-MODIFIED:20241112T155801Z
UID:3275-1731701460-1731708660@glonki.de
SUMMARY:Jahreshauptversammlung 2024
DESCRIPTION:
URL:https://glonki.de/event/mitgliederversammlung-2019/
LOCATION:Neue Tonhalle Villingen\, Bertholdstraße 7\, Villingen-Schwenningen\, 78050
CATEGORIES:Fanfarenzug,Glonki-Gilde,Glonkinchen,Krawazi-Ramblers,Majoretten,Spielmannszug,Trommlerwieber,Trommlerzug
END:VEVENT
BEGIN:VEVENT
DTSTART;TZID=Europe/Berlin:20241111T183000
DTEND;TZID=Europe/Berlin:20241111T220000
DTSTAMP:20260420T115531
CREATED:20231111T082045Z
LAST-MODIFIED:20241021T080042Z
UID:4444-1731349800-1731362400@glonki.de
SUMMARY:Fasnet-Eröffnung
DESCRIPTION:  \nFASNET-ERÖFFNUNG – VU DE GLONKI \n18:30 | Bewirtung Bickenstraße  \n19:00 | Hemdglonker-Umzug  \n19:30 | Einweihung Glonki-Brunnen   \n 
URL:https://glonki.de/event/fasnet-eroeffnung/
LOCATION:Villinger Bickenstraße
CATEGORIES:Fanfarenzug,Glonki-Gilde,Glonkinchen,Krawazi-Ramblers,Majoretten,Spielmannszug,Trommlerwieber,Trommlerzug
END:VEVENT
END:VCALENDAR